BEGIN:VCALENDAR
VERSION:2.0
PRODID:-//Fédération Sciences Chimiques Marseille - ECPv5.6.0//NONSGML v1.0//EN
CALSCALE:GREGORIAN
METHOD:PUBLISH
X-WR-CALNAME:Fédération Sciences Chimiques Marseille
X-ORIGINAL-URL:https://fr-chimie.univ-amu.fr
X-WR-CALDESC:évènements pour Fédération Sciences Chimiques Marseille
BEGIN:VTIMEZONE
TZID:Europe/Paris
BEGIN:DAYLIGHT
TZOFFSETFROM:+0100
TZOFFSETTO:+0200
TZNAME:CEST
DTSTART:20260329T010000
END:DAYLIGHT
BEGIN:STANDARD
TZOFFSETFROM:+0200
TZOFFSETTO:+0100
TZNAME:CET
DTSTART:20261025T010000
END:STANDARD
END:VTIMEZONE
BEGIN:VEVENT
DTSTART;TZID=Europe/Paris:20260204T103000
DTEND;TZID=Europe/Paris:20260204T120000
DTSTAMP:20260426T014841
CREATED:20251218T150324Z
LAST-MODIFIED:20251218T150324Z
UID:11196-1770201000-1770206400@fr-chimie.univ-amu.fr
SUMMARY:Transition metal methodologies\, notably for C-B bond formation
DESCRIPTION:Conférencier : Prof. Timothy B. Clark\, University of San Diego\, USA.
URL:https://fr-chimie.univ-amu.fr/event/transition-metal-methodologies-notably-for-c-b-bond-formation/
LOCATION:Salle des Thèses\, Compus Saint-Jérome
CATEGORIES:Conférences
ORGANIZER;CN="Herv%C3%A9%20Clavier":MAILTO:herve.clavier@univ-amu.fr
END:VEVENT
END:VCALENDAR