BEGIN:VCALENDAR
VERSION:2.0
PRODID:-//Fédération Sciences Chimiques Marseille - ECPv5.6.0//NONSGML v1.0//EN
CALSCALE:GREGORIAN
METHOD:PUBLISH
X-WR-CALNAME:Fédération Sciences Chimiques Marseille
X-ORIGINAL-URL:https://fr-chimie.univ-amu.fr
X-WR-CALDESC:évènements pour Fédération Sciences Chimiques Marseille
BEGIN:VTIMEZONE
TZID:Europe/Paris
BEGIN:DAYLIGHT
TZOFFSETFROM:+0100
TZOFFSETTO:+0200
TZNAME:CEST
DTSTART:20260329T010000
END:DAYLIGHT
BEGIN:STANDARD
TZOFFSETFROM:+0200
TZOFFSETTO:+0100
TZNAME:CET
DTSTART:20261025T010000
END:STANDARD
END:VTIMEZONE
BEGIN:VEVENT
DTSTART;TZID=Europe/Paris:20260313T103000
DTEND;TZID=Europe/Paris:20260313T120000
DTSTAMP:20260426T003217
CREATED:20260213T091756Z
LAST-MODIFIED:20260313T083801Z
UID:11359-1773397800-1773403200@fr-chimie.univ-amu.fr
SUMMARY:Understanding and Exploring Catalysis through the Lens of NMR -ANNULÉE!
DESCRIPTION:Conférencier : Prof. Christophe Copéret (ETH Zurich)
URL:https://fr-chimie.univ-amu.fr/event/material-and-surface-chemistry-with-the-aims-to-design-functional-materials-with-applications-in-catalysis/
LOCATION:Salle des Thèses\, Compus Saint-Jérome
CATEGORIES:Conférences
ORGANIZER;CN="Micael%20Hardy":MAILTO:micael.hardy@univ-amu.fr
END:VEVENT
END:VCALENDAR